BEGIN:VCALENDAR
VERSION:2.0
PRODID:-//Portuguese Business Council of Dubai - ECPv6.15.11//NONSGML v1.0//EN
CALSCALE:GREGORIAN
METHOD:PUBLISH
X-ORIGINAL-URL:https://portuguesebusinesscouncil.com
X-WR-CALDESC:Events for Portuguese Business Council of Dubai
REFRESH-INTERVAL;VALUE=DURATION:PT1H
X-Robots-Tag:noindex
X-PUBLISHED-TTL:PT1H
BEGIN:VTIMEZONE
TZID:Asia/Dubai
BEGIN:STANDARD
TZOFFSETFROM:+0400
TZOFFSETTO:+0400
TZNAME:+04
DTSTART:20250101T000000
END:STANDARD
END:VTIMEZONE
BEGIN:VEVENT
DTSTART;TZID=Asia/Dubai:20260122T180000
DTEND;TZID=Asia/Dubai:20260122T210000
DTSTAMP:20260420T205442
CREATED:20251229T073053Z
LAST-MODIFIED:20260109T094455Z
UID:207-1769104800-1769115600@portuguesebusinesscouncil.com
SUMMARY:Business Outlook 2026: Dubai and beyond
DESCRIPTION:Format: Panel Discussion \nModerator: Mauricio Dias Amador\nSpeakers:– Roland Daher (CEO @ Astrolabs)– Eduardo Patacho (Partner @ PwC Middle East) \nObjective of the Session:The session aims to provide senior-level insights into the economic outlook for Dubai and the wider GCC in 2026. The discussion will focus on macroeconomic trends\, regulatory developments\, capital flows\, and priority growth sectors\, with an emphasis on the implications for international companies using Dubai as a regional hub. \nContribution:\nMembers – Fee\nNon-member – 50aed+payment fees \nNote: The payment link will be sent in the confirmation email
URL:https://portuguesebusinesscouncil.com/event/business-outlook-2026-dubai-and-beyond/
LOCATION:The Rufescent\, The Rufescent\, Dubai\, United Arab Emirates
ATTACH;FMTTYPE=image/jpeg:https://portuguesebusinesscouncil.com/wp-content/uploads/2025/12/Screenshot-2025-12-26-at-12.07.55.jpg
END:VEVENT
END:VCALENDAR