BEGIN:VCALENDAR
VERSION:2.0
PRODID:-//Portuguese Business Council of Dubai - ECPv6.15.11//NONSGML v1.0//EN
CALSCALE:GREGORIAN
METHOD:PUBLISH
X-ORIGINAL-URL:https://portuguesebusinesscouncil.com
X-WR-CALDESC:Events for Portuguese Business Council of Dubai
REFRESH-INTERVAL;VALUE=DURATION:PT1H
X-Robots-Tag:noindex
X-PUBLISHED-TTL:PT1H
BEGIN:VTIMEZONE
TZID:Asia/Dubai
BEGIN:STANDARD
TZOFFSETFROM:+0400
TZOFFSETTO:+0400
TZNAME:+04
DTSTART:20240101T000000
END:STANDARD
END:VTIMEZONE
BEGIN:VEVENT
DTSTART;TZID=Asia/Dubai:20251126T180000
DTEND;TZID=Asia/Dubai:20251126T210000
DTSTAMP:20260421T002142
CREATED:20251015T030258Z
LAST-MODIFIED:20251117T103956Z
UID:81-1764180000-1764190800@portuguesebusinesscouncil.com
SUMMARY:Networking Cocktail November
DESCRIPTION:Join us for the PBC Dubai Networking Evening — an exclusive gathering designed to connect leading professionals\, entrepreneurs\, and decision-makers. Build valuable relationships\, explore new business opportunities\, and be part of a growing community shaping the future of business in Dubai. \nMembers – AED 70 – 2 drinks\nNon-members – AED 70 – 1 drink
URL:https://portuguesebusinesscouncil.com/event/networking-cocktail-november/
LOCATION:Sucre – Alma Lounge @ DIFC\, Sucre Brasserie\, Dubai\, United Arab Emirates
ATTACH;FMTTYPE=image/jpeg:https://portuguesebusinesscouncil.com/wp-content/uploads/2025/10/DSC09918-1-scaled-1-e1763364597996.jpg
END:VEVENT
END:VCALENDAR