BEGIN:VCALENDAR
VERSION:2.0
PRODID:-//Portuguese Business Council of Dubai - ECPv6.15.11//NONSGML v1.0//EN
CALSCALE:GREGORIAN
METHOD:PUBLISH
X-ORIGINAL-URL:https://portuguesebusinesscouncil.com
X-WR-CALDESC:Events for Portuguese Business Council of Dubai
REFRESH-INTERVAL;VALUE=DURATION:PT1H
X-Robots-Tag:noindex
X-PUBLISHED-TTL:PT1H
BEGIN:VTIMEZONE
TZID:Asia/Dubai
BEGIN:STANDARD
TZOFFSETFROM:+0400
TZOFFSETTO:+0400
TZNAME:+04
DTSTART:20250101T000000
END:STANDARD
END:VTIMEZONE
BEGIN:VEVENT
DTSTART;TZID=Asia/Dubai:20260416T113000
DTEND;TZID=Asia/Dubai:20260416T133000
DTSTAMP:20260421T011130
CREATED:20260409T155028Z
LAST-MODIFIED:20260410T012934Z
UID:310-1776339000-1776346200@portuguesebusinesscouncil.com
SUMMARY:General Assembly
DESCRIPTION:We are pleased to announce the upcoming General Assembly of the Portuguese Business Council in Dubai. \nDate: Thursday\, 16th April\nTime: 11:30 AM – 1:30 PM\nLocation: Dubai Chambers\nOnline participation available \nThis is an important moment for our community to come together\, review our progress\, and align on the next steps for strengthening the bridge between Portugal and the UAE. \nMembers who wish to attend online are kindly requested to confirm their participation by emailing: events@portuguesebusinesscouncil.com
URL:https://portuguesebusinesscouncil.com/event/general-assembly/
LOCATION:Dubai Chambers\, Dubai Chambers\, Dubai
ATTACH;FMTTYPE=image/png:https://portuguesebusinesscouncil.com/wp-content/uploads/2026/04/chamber.png
END:VEVENT
END:VCALENDAR