BEGIN:VCALENDAR
VERSION:2.0
PRODID:-//Portuguese Business Council of Dubai - ECPv6.15.11//NONSGML v1.0//EN
CALSCALE:GREGORIAN
METHOD:PUBLISH
X-WR-CALNAME:Portuguese Business Council of Dubai
X-ORIGINAL-URL:https://portuguesebusinesscouncil.com
X-WR-CALDESC:Events for Portuguese Business Council of Dubai
REFRESH-INTERVAL;VALUE=DURATION:PT1H
X-Robots-Tag:noindex
X-PUBLISHED-TTL:PT1H
BEGIN:VTIMEZONE
TZID:Asia/Dubai
BEGIN:STANDARD
TZOFFSETFROM:+0400
TZOFFSETTO:+0400
TZNAME:+04
DTSTART:20250101T000000
END:STANDARD
END:VTIMEZONE
BEGIN:VEVENT
DTSTART;TZID=Asia/Dubai:20260212T180000
DTEND;TZID=Asia/Dubai:20260212T210000
DTSTAMP:20260420T205037
CREATED:20260122T075050Z
LAST-MODIFIED:20260128T093906Z
UID:226-1770919200-1770930000@portuguesebusinesscouncil.com
SUMMARY:Panel Discussion & Networking
DESCRIPTION:Exclusive panel discussion and networking bringing together industry leaders to explore how Artificial Intelligence is shaping growth\, leadership\, and business transformation. \nModerator: Gonçalo Freitas\nSpeakers: • Carlos Teixeira (Finastra) • Hugo Montenegro (XCOPE) • Vítor Hugo Nogueira (Atelier Digital AI)\n• Tarek Salloum (Sliver Arrow Advisory) \nJoin us for an evening of insights\, strategic perspectives\, and networking within the business community in Dubai.
URL:https://portuguesebusinesscouncil.com/event/panel-discussion-networking/
LOCATION:Mama Shelter Dubai\, Mama Shelter Dubai\, Dubai\, United Arab Emirates
ATTACH;FMTTYPE=image/jpeg:https://portuguesebusinesscouncil.com/wp-content/uploads/2026/01/photo-mama-shelter-dijon-dijon-1.jpg
END:VEVENT
END:VCALENDAR