BEGIN:VCALENDAR
VERSION:2.0
PRODID:-//Portuguese Business Council of Dubai - ECPv6.15.11//NONSGML v1.0//EN
CALSCALE:GREGORIAN
METHOD:PUBLISH
X-ORIGINAL-URL:https://portuguesebusinesscouncil.com
X-WR-CALDESC:Events for Portuguese Business Council of Dubai
REFRESH-INTERVAL;VALUE=DURATION:PT1H
X-Robots-Tag:noindex
X-PUBLISHED-TTL:PT1H
BEGIN:VTIMEZONE
TZID:Asia/Dubai
BEGIN:STANDARD
TZOFFSETFROM:+0400
TZOFFSETTO:+0400
TZNAME:+04
DTSTART:20240101T000000
END:STANDARD
END:VTIMEZONE
BEGIN:VEVENT
DTSTART;TZID=Asia/Dubai:20251029T180000
DTEND;TZID=Asia/Dubai:20251029T210000
DTSTAMP:20260421T020038
CREATED:20251015T024330Z
LAST-MODIFIED:20251029T112923Z
UID:70-1761760800-1761771600@portuguesebusinesscouncil.com
SUMMARY:Networking Cocktail
DESCRIPTION:Join us for an exclusive PBCD Networking Evening at Celeste\, SO/ Uptown Dubai\, featuring the introduction of The Rufescent Club Hotel \, an exclusive new boutique hotel concept. Enjoy a vibrant evening of networking\, complimentary drinks\, light bites and exciting raffle prizes. \nComplimentary for members\nComplimentary Valet Parking for all guests.
URL:https://portuguesebusinesscouncil.com/event/networking-cocktail/
LOCATION:Celeste\, SO/ Uptown\, Celeste\, SO/ Uptown\, Dubai\, United Arab Emirates
ATTACH;FMTTYPE=image/png:https://portuguesebusinesscouncil.com/wp-content/uploads/2025/10/s-blob-v1-IMAGE-lOZX7ZFNJOc-1.png
END:VEVENT
END:VCALENDAR